Package: nullranges Version: 1.13.0 Command: /Library/Frameworks/R.framework/Resources/bin/R CMD build --keep-empty-dirs --no-resave-data nullranges StartedAt: 2025-02-12 17:40:33 -0500 (Wed, 12 Feb 2025) EndedAt: 2025-02-12 17:43:32 -0500 (Wed, 12 Feb 2025) EllapsedTime: 179.3 seconds RetCode: 0 Status: OK PackageFile: nullranges_1.13.0.tar.gz PackageFileSize: 5.085 MiB