Package: nullranges Version: 1.13.0 Command: /Library/Frameworks/R.framework/Resources/bin/R CMD check --install=check:nullranges.install-out.txt --library=/Library/Frameworks/R.framework/Resources/library --no-vignettes --timings nullranges_1.13.0.tar.gz StartedAt: 2025-02-12 22:09:19 -0500 (Wed, 12 Feb 2025) EndedAt: 2025-02-12 22:14:19 -0500 (Wed, 12 Feb 2025) EllapsedTime: 300.0 seconds RetCode: 0 Status: OK CheckDir: nullranges.Rcheck Warnings: 0