Package: nullranges Version: 1.13.0 Command: rm -rf nullranges.buildbin-libdir && mkdir nullranges.buildbin-libdir && E:\biocbuild\bbs-3.21-bioc\R\bin\R.exe CMD INSTALL --build --library=nullranges.buildbin-libdir nullranges_1.13.0.tar.gz StartedAt: 2025-02-13 08:28:31 -0500 (Thu, 13 Feb 2025) EndedAt: 2025-02-13 08:29:30 -0500 (Thu, 13 Feb 2025) EllapsedTime: 58.8 seconds RetCode: 0 Status: OK PackageFile: nullranges_1.13.0.zip PackageFileSize: 3.62 MiB