Package: occugene Version: 1.67.0 Command: /Library/Frameworks/R.framework/Resources/bin/R CMD INSTALL occugene StartedAt: 2025-02-04 15:02:42 -0500 (Tue, 04 Feb 2025) EndedAt: 2025-02-04 15:02:49 -0500 (Tue, 04 Feb 2025) EllapsedTime: 7.2 seconds RetCode: 0 Status: OK