Package: occugene Version: 1.67.0 Command: /home/biocbuild/R/R/bin/R CMD build --keep-empty-dirs --no-resave-data occugene StartedAt: 2025-01-29 00:55:30 -0000 (Wed, 29 Jan 2025) EndedAt: 2025-01-29 00:55:42 -0000 (Wed, 29 Jan 2025) EllapsedTime: 12.0 seconds RetCode: 0 Status: OK PackageFile: occugene_1.67.0.tar.gz PackageFileSize: 185.6 KiB