Package: occugene Version: 1.67.0 Command: /home/biocbuild/R/R/bin/R CMD INSTALL occugene StartedAt: 2025-01-29 19:33:35 -0000 (Wed, 29 Jan 2025) EndedAt: 2025-01-29 19:34:07 -0000 (Wed, 29 Jan 2025) EllapsedTime: 32.4 seconds RetCode: 0 Status: OK