Package: occugene Version: 1.67.0 Command: /Library/Frameworks/R.framework/Resources/bin/R CMD build --keep-empty-dirs --no-resave-data occugene StartedAt: 2025-02-04 17:40:40 -0500 (Tue, 04 Feb 2025) EndedAt: 2025-02-04 17:40:56 -0500 (Tue, 04 Feb 2025) EllapsedTime: 16.3 seconds RetCode: 0 Status: OK PackageFile: occugene_1.67.0.tar.gz PackageFileSize: 194.6 KiB