Package: occugene Version: 1.67.0 Command: chmod a+r occugene -R && E:\biocbuild\bbs-3.21-bioc\R\bin\R.exe CMD build --keep-empty-dirs --no-resave-data occugene StartedAt: 2025-02-09 20:23:38 -0500 (Sun, 09 Feb 2025) EndedAt: 2025-02-09 20:23:58 -0500 (Sun, 09 Feb 2025) EllapsedTime: 19.5 seconds RetCode: 0 Status: OK PackageFile: occugene_1.67.0.tar.gz PackageFileSize: 97.61 KiB