Package: occugene Version: 1.67.0 Command: E:\biocbuild\bbs-3.21-bioc\R\bin\R.exe CMD check --no-multiarch --install=check:occugene.install-out.txt --library=E:\biocbuild\bbs-3.21-bioc\R\library --no-vignettes --timings occugene_1.67.0.tar.gz StartedAt: 2025-02-05 04:07:50 -0500 (Wed, 05 Feb 2025) EndedAt: 2025-02-05 04:08:21 -0500 (Wed, 05 Feb 2025) EllapsedTime: 31.5 seconds RetCode: 0 Status: OK CheckDir: occugene.Rcheck Warnings: 0