Package: occugene Version: 1.67.0 Command: E:\biocbuild\bbs-3.21-bioc\R\bin\R.exe CMD INSTALL occugene StartedAt: 2025-02-04 15:21:17 -0500 (Tue, 04 Feb 2025) EndedAt: 2025-02-04 15:21:34 -0500 (Tue, 04 Feb 2025) EllapsedTime: 16.4 seconds RetCode: 0 Status: OK