Package: odseq Version: 1.35.0 Command: /Library/Frameworks/R.framework/Resources/bin/R CMD INSTALL odseq StartedAt: 2025-02-09 15:06:13 -0500 (Sun, 09 Feb 2025) EndedAt: 2025-02-09 15:06:21 -0500 (Sun, 09 Feb 2025) EllapsedTime: 7.3 seconds RetCode: 0 Status: OK