Package: odseq Version: 1.35.0 Command: /home/biocbuild/R/R/bin/R CMD build --keep-empty-dirs --no-resave-data odseq StartedAt: 2025-01-29 00:55:57 -0000 (Wed, 29 Jan 2025) EndedAt: 2025-01-29 00:56:51 -0000 (Wed, 29 Jan 2025) EllapsedTime: 54.1 seconds RetCode: 0 Status: OK PackageFile: odseq_1.35.0.tar.gz PackageFileSize: 200 KiB