Package: odseq Version: 1.35.0 Command: rm -rf odseq.buildbin-libdir && mkdir odseq.buildbin-libdir && /Users/biocbuild/BBS/utils/build-universal.sh odseq_1.35.0.tar.gz /Library/Frameworks/R.framework/Resources/bin/R odseq.buildbin-libdir StartedAt: 2025-02-10 01:06:28 -0500 (Mon, 10 Feb 2025) EndedAt: 2025-02-10 01:06:53 -0500 (Mon, 10 Feb 2025) EllapsedTime: 24.4 seconds RetCode: 0 Status: OK PackageFile: odseq_1.35.0.tgz PackageFileSize: 248.4 KiB