Package: odseq Version: 1.35.0 Command: /Library/Frameworks/R.framework/Resources/bin/R CMD build --keep-empty-dirs --no-resave-data odseq StartedAt: 2025-02-03 17:45:03 -0500 (Mon, 03 Feb 2025) EndedAt: 2025-02-03 17:45:58 -0500 (Mon, 03 Feb 2025) EllapsedTime: 54.8 seconds RetCode: 0 Status: OK PackageFile: odseq_1.35.0.tar.gz PackageFileSize: 230.1 KiB