Package: odseq Version: 1.35.0 Command: /home/biocbuild/bbs-3.21-bioc/R/bin/R CMD check --install=check:odseq.install-out.txt --library=/home/biocbuild/bbs-3.21-bioc/R/site-library --timings odseq_1.35.0.tar.gz StartedAt: 2025-02-04 01:00:39 -0500 (Tue, 04 Feb 2025) EndedAt: 2025-02-04 01:02:45 -0500 (Tue, 04 Feb 2025) EllapsedTime: 126.3 seconds RetCode: 0 Status: OK CheckDir: odseq.Rcheck Warnings: 0