Package: odseq Version: 1.35.0 Command: chmod a+r odseq -R && E:\biocbuild\bbs-3.21-bioc\R\bin\R.exe CMD build --keep-empty-dirs --no-resave-data odseq StartedAt: 2025-02-03 20:37:00 -0500 (Mon, 03 Feb 2025) EndedAt: 2025-02-03 20:37:42 -0500 (Mon, 03 Feb 2025) EllapsedTime: 42.3 seconds RetCode: 0 Status: OK PackageFile: odseq_1.35.0.tar.gz PackageFileSize: 230.7 KiB