Package: odseq Version: 1.35.0 Command: E:\biocbuild\bbs-3.21-bioc\R\bin\R.exe CMD check --no-multiarch --install=check:odseq.install-out.txt --library=E:\biocbuild\bbs-3.21-bioc\R\library --no-vignettes --timings odseq_1.35.0.tar.gz StartedAt: 2025-02-10 03:41:54 -0500 (Mon, 10 Feb 2025) EndedAt: 2025-02-10 03:44:36 -0500 (Mon, 10 Feb 2025) EllapsedTime: 161.6 seconds RetCode: 0 Status: OK CheckDir: odseq.Rcheck Warnings: 0