Package: odseq Version: 1.35.0 Command: E:\biocbuild\bbs-3.21-bioc\R\bin\R.exe CMD INSTALL odseq StartedAt: 2025-02-03 15:58:30 -0500 (Mon, 03 Feb 2025) EndedAt: 2025-02-03 15:58:53 -0500 (Mon, 03 Feb 2025) EllapsedTime: 22.9 seconds RetCode: 0 Status: OK