Back to Multiple platform build/check report for BioC 3.21:   simplified   long
ABCDEFGHIJKLMN[O]PQRSTUVWXYZ

This page was generated on 2025-02-05 11:39 -0500 (Wed, 05 Feb 2025).

HostnameOSArch (*)R versionInstalled pkgs
nebbiolo1Linux (Ubuntu 24.04.1 LTS)x86_64R Under development (unstable) (2025-01-20 r87609) -- "Unsuffered Consequences" 4717
palomino7Windows Server 2022 Datacenterx64R Under development (unstable) (2025-01-21 r87610 ucrt) -- "Unsuffered Consequences" 4478
lconwaymacOS 12.7.1 Montereyx86_64R Under development (unstable) (2025-01-22 r87618) -- "Unsuffered Consequences" 4489
kjohnson3macOS 13.7.1 Venturaarm64R Under development (unstable) (2025-01-20 r87609) -- "Unsuffered Consequences" 4442
Click on any hostname to see more info about the system (e.g. compilers)      (*) as reported by 'uname -p', except on Windows and Mac OS X

All results for package oligo


To the developers/maintainers of the oligo package:
- Allow up to 24 hours (and sometimes 48 hours) for your latest push to git@git.bioconductor.org:packages/oligo.git to reflect on this report. See Troubleshooting Build Report for more information.
- Use the following Renviron settings to reproduce errors and warnings.
- If 'R CMD check' started to fail recently on the Linux builder(s) over a missing dependency, add the missing dependency to 'Suggests:' in your DESCRIPTION file. See Renviron.bioc for more information.

raw results

Package 1444/2295HostnameOS / ArchINSTALLBUILDCHECKBUILD BIN
oligo 1.71.0  (landing page)
Benilton Carvalho
Snapshot Date: 2025-02-04 13:40 -0500 (Tue, 04 Feb 2025)
git_url: https://git.bioconductor.org/packages/oligo
git_branch: devel
git_last_commit: b720ab9
git_last_commit_date: 2024-10-29 09:24:49 -0500 (Tue, 29 Oct 2024)
nebbiolo1Linux (Ubuntu 24.04.1 LTS) / x86_64  ERROR    ERROR  skipped
palomino7Windows Server 2022 Datacenter / x64  ERROR    ERROR  skippedskipped
lconwaymacOS 12.7.1 Monterey / x86_64  ERROR    ERROR  skippedskipped
kjohnson3macOS 13.7.1 Ventura / arm64  ERROR    ERROR  skippedskipped



Results for Bioconductor software packages that depend directly on package oligo

QUICK STATSOS / ArchINSTALLBUILDCHECKBUILD BIN
nebbiolo1Linux (Ubuntu 24.04.1 LTS) / x86_64
090
090
0000
palomino7Windows Server 2022 Datacenter / x64
036
036
0105
006
lconwaymacOS 12.7.1 Monterey / x86_64
090
090
0000
000
kjohnson3macOS 13.7.1 Ventura / arm64
090
090
0000
000
Package 1/9HostnameOS / ArchINSTALLBUILDCHECKBUILD BIN
ArrayExpress 1.67.0  (landing page)
Jose Marugan
git_last_commit: 2b97e7e
git_last_commit_date: 2024-10-29 09:30:06 -0500
nebbiolo1Linux (Ubuntu 24.04.1 LTS) / x86_64  ERROR    ERROR  skipped
palomino7Windows Server 2022 Datacenter / x64  OK    OK    OK    OK  UNNEEDED, same version is already published
lconwaymacOS 12.7.1 Monterey / x86_64  ERROR    ERROR  skippedskipped
kjohnson3macOS 13.7.1 Ventura / arm64  ERROR    ERROR  skippedskipped
Package 2/9HostnameOS / ArchINSTALLBUILDCHECKBUILD BIN
cn.farms 1.55.0  (landing page)
Andreas Mitterecker
git_last_commit: 8600141
git_last_commit_date: 2024-10-29 09:36:23 -0500
nebbiolo1Linux (Ubuntu 24.04.1 LTS) / x86_64  ERROR    ERROR  skipped
palomino7Windows Server 2022 Datacenter / x64  ERROR    ERROR  skippedskipped
lconwaymacOS 12.7.1 Monterey / x86_64  ERROR    ERROR  skippedskipped
kjohnson3macOS 13.7.1 Ventura / arm64  ERROR    ERROR  skippedskipped
Package 3/9HostnameOS / ArchINSTALLBUILDCHECKBUILD BIN
crossmeta 1.33.1  (landing page)
Alex Pickering
git_last_commit: a60103d
git_last_commit_date: 2024-12-17 10:45:03 -0500
nebbiolo1Linux (Ubuntu 24.04.1 LTS) / x86_64  ERROR    ERROR  skipped
palomino7Windows Server 2022 Datacenter / x64  OK    OK    ERROR    OK  
lconwaymacOS 12.7.1 Monterey / x86_64  ERROR    ERROR  skippedskipped
kjohnson3macOS 13.7.1 Ventura / arm64  ERROR    ERROR  skippedskipped
Package 4/9HostnameOS / ArchINSTALLBUILDCHECKBUILD BIN
frma 1.59.0  (landing page)
Matthew N. McCall
git_last_commit: 93b1951
git_last_commit_date: 2024-10-29 09:32:58 -0500
nebbiolo1Linux (Ubuntu 24.04.1 LTS) / x86_64  ERROR    ERROR  skipped
palomino7Windows Server 2022 Datacenter / x64  OK    OK    OK    OK  UNNEEDED, same version is already published
lconwaymacOS 12.7.1 Monterey / x86_64  ERROR    ERROR  skippedskipped
kjohnson3macOS 13.7.1 Ventura / arm64  ERROR    ERROR  skippedskipped
Package 5/9HostnameOS / ArchINSTALLBUILDCHECKBUILD BIN
ITALICS 2.67.0  (landing page)
Guillem Rigaill
git_last_commit: ae94ff4
git_last_commit_date: 2024-10-29 09:29:44 -0500
nebbiolo1Linux (Ubuntu 24.04.1 LTS) / x86_64  ERROR    ERROR  skipped
palomino7Windows Server 2022 Datacenter / x64  ERROR    ERROR  skippedskipped
lconwaymacOS 12.7.1 Monterey / x86_64  ERROR    ERROR  skippedskipped
kjohnson3macOS 13.7.1 Ventura / arm64  ERROR    ERROR  skippedskipped
Package 6/9HostnameOS / ArchINSTALLBUILDCHECKBUILD BIN
mimager 1.31.0  (landing page)
Aaron Wolen
git_last_commit: b2c3bfc
git_last_commit_date: 2024-10-29 10:16:34 -0500
nebbiolo1Linux (Ubuntu 24.04.1 LTS) / x86_64  ERROR    ERROR  skipped
palomino7Windows Server 2022 Datacenter / x64  OK    OK    OK    OK  UNNEEDED, same version is already published
lconwaymacOS 12.7.1 Monterey / x86_64  ERROR    ERROR  skippedskipped
kjohnson3macOS 13.7.1 Ventura / arm64  ERROR    ERROR  skippedskipped
Package 7/9HostnameOS / ArchINSTALLBUILDCHECKBUILD BIN
pdInfoBuilder 1.71.0  (landing page)
Benilton Carvalho
git_last_commit: 0504fdc
git_last_commit_date: 2024-10-29 09:27:18 -0500
nebbiolo1Linux (Ubuntu 24.04.1 LTS) / x86_64  ERROR    ERROR  skipped
palomino7Windows Server 2022 Datacenter / x64  OK    OK    OK    OK  UNNEEDED, same version is already published
lconwaymacOS 12.7.1 Monterey / x86_64  ERROR    ERROR  skippedskipped
kjohnson3macOS 13.7.1 Ventura / arm64  ERROR    ERROR  skippedskipped
Package 8/9HostnameOS / ArchINSTALLBUILDCHECKBUILD BIN
puma 3.49.0  (landing page)
Xuejun Liu
git_last_commit: 1a4a178
git_last_commit_date: 2024-10-29 09:27:54 -0500
nebbiolo1Linux (Ubuntu 24.04.1 LTS) / x86_64  ERROR    ERROR  skipped
palomino7Windows Server 2022 Datacenter / x64  ERROR    ERROR  skippedskipped
lconwaymacOS 12.7.1 Monterey / x86_64  ERROR    ERROR  skippedskipped
kjohnson3macOS 13.7.1 Ventura / arm64  ERROR    ERROR  skippedskipped
Package 9/9HostnameOS / ArchINSTALLBUILDCHECKBUILD BIN
SCAN.UPC 2.49.0  (landing page)
Stephen R. Piccolo
git_last_commit: 5f6ff63
git_last_commit_date: 2024-10-29 09:42:51 -0500
nebbiolo1Linux (Ubuntu 24.04.1 LTS) / x86_64  ERROR    ERROR  skipped
palomino7Windows Server 2022 Datacenter / x64  OK    OK    OK    OK  UNNEEDED, same version is already published
lconwaymacOS 12.7.1 Monterey / x86_64  ERROR    ERROR  skippedskipped
kjohnson3macOS 13.7.1 Ventura / arm64  ERROR    ERROR  skippedskipped