Package: oligo Version: 1.71.0 Command: /Library/Frameworks/R.framework/Resources/bin/R CMD build --keep-empty-dirs --no-resave-data oligo StartedAt: 2025-02-04 17:09:10 -0500 (Tue, 04 Feb 2025) EndedAt: 2025-02-04 17:09:11 -0500 (Tue, 04 Feb 2025) EllapsedTime: 1.0 seconds RetCode: 1 Status: ERROR PackageFile: None PackageFileSize: NA