Package: oligo Version: 1.71.0 Command: /Library/Frameworks/R.framework/Resources/bin/R CMD INSTALL oligo StartedAt: 2025-02-04 15:07:24 -0500 (Tue, 04 Feb 2025) EndedAt: 2025-02-04 15:07:25 -0500 (Tue, 04 Feb 2025) EllapsedTime: 1.0 seconds RetCode: 1 Status: ERROR