Package: oligo Version: 1.71.0 Command: /home/biocbuild/R/R/bin/R CMD INSTALL oligo StartedAt: 2025-01-29 19:45:01 -0000 (Wed, 29 Jan 2025) EndedAt: 2025-01-29 19:45:02 -0000 (Wed, 29 Jan 2025) EllapsedTime: 1.2 seconds RetCode: 1 Status: ERROR