Package: oligo Version: 1.71.0 Command: /Library/Frameworks/R.framework/Resources/bin/R CMD build --keep-empty-dirs --no-resave-data oligo StartedAt: 2025-02-04 17:40:56 -0500 (Tue, 04 Feb 2025) EndedAt: 2025-02-04 17:41:01 -0500 (Tue, 04 Feb 2025) EllapsedTime: 4.6 seconds RetCode: 1 Status: ERROR PackageFile: None PackageFileSize: NA