Package: oligo Version: 1.71.0 Command: /Library/Frameworks/R.framework/Resources/bin/R CMD INSTALL oligo StartedAt: 2025-02-04 15:13:18 -0500 (Tue, 04 Feb 2025) EndedAt: 2025-02-04 15:13:20 -0500 (Tue, 04 Feb 2025) EllapsedTime: 2.4 seconds RetCode: 1 Status: ERROR