Package: oligo Version: 1.71.0 Command: E:\biocbuild\bbs-3.21-bioc\R\bin\R.exe CMD INSTALL oligo StartedAt: 2025-02-04 15:46:33 -0500 (Tue, 04 Feb 2025) EndedAt: 2025-02-04 15:46:42 -0500 (Tue, 04 Feb 2025) EllapsedTime: 8.4 seconds RetCode: 1 Status: ERROR