Package: omXplore Version: 1.1.0 Command: rm -rf omXplore.buildbin-libdir && mkdir omXplore.buildbin-libdir && /Users/biocbuild/BBS/utils/build-universal.sh omXplore_1.1.0.tar.gz /Library/Frameworks/R.framework/Resources/bin/R omXplore.buildbin-libdir StartedAt: 2025-02-09 22:24:13 -0500 (Sun, 09 Feb 2025) EndedAt: 2025-02-09 22:24:30 -0500 (Sun, 09 Feb 2025) EllapsedTime: 17.4 seconds RetCode: 0 Status: OK PackageFile: omXplore_1.1.0.tgz PackageFileSize: 1.529 MiB