Package: omXplore Version: 1.1.0 Command: /home/biocbuild/bbs-3.21-bioc/R/bin/R CMD check --install=check:omXplore.install-out.txt --library=/home/biocbuild/bbs-3.21-bioc/R/site-library --timings omXplore_1.1.0.tar.gz StartedAt: 2025-02-10 00:55:43 -0500 (Mon, 10 Feb 2025) EndedAt: 2025-02-10 01:01:14 -0500 (Mon, 10 Feb 2025) EllapsedTime: 331.5 seconds RetCode: 0 Status: WARNINGS CheckDir: omXplore.Rcheck Warnings: 2