Package: omXplore Version: 1.1.0 Command: /home/biocbuild/bbs-3.21-bioc/R/bin/R CMD INSTALL omXplore StartedAt: 2025-02-09 15:37:01 -0500 (Sun, 09 Feb 2025) EndedAt: 2025-02-09 15:37:43 -0500 (Sun, 09 Feb 2025) EllapsedTime: 41.4 seconds RetCode: 0 Status: OK