Package: omXplore Version: 1.1.0 Command: rm -rf omXplore.buildbin-libdir && mkdir omXplore.buildbin-libdir && E:\biocbuild\bbs-3.21-bioc\R\bin\R.exe CMD INSTALL --build --library=omXplore.buildbin-libdir omXplore_1.1.0.tar.gz StartedAt: 2025-02-05 08:30:44 -0500 (Wed, 05 Feb 2025) EndedAt: 2025-02-05 08:32:15 -0500 (Wed, 05 Feb 2025) EllapsedTime: 90.3 seconds RetCode: 0 Status: OK PackageFile: omXplore_1.1.0.zip PackageFileSize: 1.535 MiB