Package: omXplore Version: 1.1.0 Command: chmod a+r omXplore -R && E:\biocbuild\bbs-3.21-bioc\R\bin\R.exe CMD build --keep-empty-dirs --no-resave-data omXplore StartedAt: 2025-02-04 20:27:31 -0500 (Tue, 04 Feb 2025) EndedAt: 2025-02-04 20:29:13 -0500 (Tue, 04 Feb 2025) EllapsedTime: 101.7 seconds RetCode: 0 Status: OK PackageFile: omXplore_1.1.0.tar.gz PackageFileSize: 2.004 MiB