Package: omXplore Version: 1.1.0 Command: E:\biocbuild\bbs-3.21-bioc\R\bin\R.exe CMD INSTALL omXplore StartedAt: 2025-02-04 16:54:23 -0500 (Tue, 04 Feb 2025) EndedAt: 2025-02-04 16:55:27 -0500 (Tue, 04 Feb 2025) EllapsedTime: 63.7 seconds RetCode: 0 Status: OK