Package: omada Version: 1.9.0 Command: rm -rf omada.buildbin-libdir && mkdir omada.buildbin-libdir && /Users/biocbuild/BBS/utils/build-universal.sh omada_1.9.0.tar.gz /Library/Frameworks/R.framework/Resources/bin/R omada.buildbin-libdir StartedAt: 2025-02-09 22:24:03 -0500 (Sun, 09 Feb 2025) EndedAt: 2025-02-09 22:24:09 -0500 (Sun, 09 Feb 2025) EllapsedTime: 6.1 seconds RetCode: 0 Status: OK PackageFile: omada_1.9.0.tgz PackageFileSize: 307.8 KiB