Package: omada Version: 1.9.0 Command: /home/biocbuild/R/R/bin/R CMD check --install=check:omada.install-out.txt --library=/home/biocbuild/R/R/site-library --no-vignettes --timings omada_1.9.0.tar.gz StartedAt: 2025-01-28 13:26:47 -0000 (Tue, 28 Jan 2025) EndedAt: 2025-01-28 13:45:29 -0000 (Tue, 28 Jan 2025) EllapsedTime: 1121.4 seconds RetCode: 0 Status: OK CheckDir: omada.Rcheck Warnings: 0