Package: omada Version: 1.9.0 Command: /home/biocbuild/bbs-3.21-bioc/R/bin/R CMD check --install=check:omada.install-out.txt --library=/home/biocbuild/bbs-3.21-bioc/R/site-library --timings omada_1.9.0.tar.gz StartedAt: 2025-02-10 00:53:37 -0500 (Mon, 10 Feb 2025) EndedAt: 2025-02-10 01:09:02 -0500 (Mon, 10 Feb 2025) EllapsedTime: 925.5 seconds RetCode: 0 Status: OK CheckDir: omada.Rcheck Warnings: 0