Package: omada Version: 1.9.0 Command: chmod a+r omada -R && E:\biocbuild\bbs-3.21-bioc\R\bin\R.exe CMD build --keep-empty-dirs --no-resave-data omada StartedAt: 2025-02-03 20:37:20 -0500 (Mon, 03 Feb 2025) EndedAt: 2025-02-03 20:40:43 -0500 (Mon, 03 Feb 2025) EllapsedTime: 202.8 seconds RetCode: 0 Status: OK PackageFile: omada_1.9.0.tar.gz PackageFileSize: 82.89 KiB