Package: omada Version: 1.9.0 Command: E:\biocbuild\bbs-3.21-bioc\R\bin\R.exe CMD check --no-multiarch --install=check:omada.install-out.txt --library=E:\biocbuild\bbs-3.21-bioc\R\library --no-vignettes --timings omada_1.9.0.tar.gz StartedAt: 2025-02-10 03:42:28 -0500 (Mon, 10 Feb 2025) EndedAt: 2025-02-10 03:55:41 -0500 (Mon, 10 Feb 2025) EllapsedTime: 793.3 seconds RetCode: 0 Status: OK CheckDir: omada.Rcheck Warnings: 0