Package: omada Version: 1.9.0 Command: E:\biocbuild\bbs-3.21-bioc\R\bin\R.exe CMD INSTALL omada StartedAt: 2025-02-09 15:56:34 -0500 (Sun, 09 Feb 2025) EndedAt: 2025-02-09 15:57:03 -0500 (Sun, 09 Feb 2025) EllapsedTime: 29.7 seconds RetCode: 0 Status: OK