Package: omicade4 Version: 1.47.0 Command: rm -rf omicade4.buildbin-libdir && mkdir omicade4.buildbin-libdir && /Users/biocbuild/BBS/utils/build-universal.sh omicade4_1.47.0.tar.gz /Library/Frameworks/R.framework/Resources/bin/R omicade4.buildbin-libdir StartedAt: 2025-02-09 22:24:05 -0500 (Sun, 09 Feb 2025) EndedAt: 2025-02-09 22:24:14 -0500 (Sun, 09 Feb 2025) EllapsedTime: 9.2 seconds RetCode: 0 Status: OK PackageFile: omicade4_1.47.0.tgz PackageFileSize: 613.7 KiB