Package: omicade4 Version: 1.47.0 Command: /Library/Frameworks/R.framework/Resources/bin/R CMD check --install=check:omicade4.install-out.txt --library=/Library/Frameworks/R.framework/Resources/library --no-vignettes --timings omicade4_1.47.0.tar.gz StartedAt: 2025-02-03 21:05:04 -0500 (Mon, 03 Feb 2025) EndedAt: 2025-02-03 21:06:04 -0500 (Mon, 03 Feb 2025) EllapsedTime: 59.7 seconds RetCode: 0 Status: OK CheckDir: omicade4.Rcheck Warnings: 0