Package: omicade4 Version: 1.47.0 Command: /home/biocbuild/R/R/bin/R CMD build --keep-empty-dirs --no-resave-data omicade4 StartedAt: 2025-01-29 00:56:51 -0000 (Wed, 29 Jan 2025) EndedAt: 2025-01-29 00:57:42 -0000 (Wed, 29 Jan 2025) EllapsedTime: 51.0 seconds RetCode: 0 Status: OK PackageFile: omicade4_1.47.0.tar.gz PackageFileSize: 535.9 KiB