Package: omicade4 Version: 1.47.0 Command: rm -rf omicade4.buildbin-libdir && mkdir omicade4.buildbin-libdir && /Users/biocbuild/BBS/utils/build-universal.sh omicade4_1.47.0.tar.gz /Library/Frameworks/R.framework/Resources/bin/R omicade4.buildbin-libdir StartedAt: 2025-02-13 00:49:16 -0500 (Thu, 13 Feb 2025) EndedAt: 2025-02-13 00:49:47 -0500 (Thu, 13 Feb 2025) EllapsedTime: 31.1 seconds RetCode: 0 Status: OK PackageFile: omicade4_1.47.0.tgz PackageFileSize: 613 KiB