Package: omicade4 Version: 1.47.0 Command: /Library/Frameworks/R.framework/Resources/bin/R CMD INSTALL omicade4 StartedAt: 2025-02-12 15:10:55 -0500 (Wed, 12 Feb 2025) EndedAt: 2025-02-12 15:11:25 -0500 (Wed, 12 Feb 2025) EllapsedTime: 29.7 seconds RetCode: 0 Status: OK