Package: omicade4 Version: 1.47.0 Command: /home/biocbuild/bbs-3.21-bioc/R/bin/R CMD build --keep-empty-dirs --no-resave-data omicade4 StartedAt: 2025-02-09 18:28:13 -0500 (Sun, 09 Feb 2025) EndedAt: 2025-02-09 18:28:47 -0500 (Sun, 09 Feb 2025) EllapsedTime: 34.0 seconds RetCode: 0 Status: OK PackageFile: omicade4_1.47.0.tar.gz PackageFileSize: 544.1 KiB