Package: omicade4 Version: 1.47.0 Command: chmod a+r omicade4 -R && E:\biocbuild\bbs-3.21-bioc\R\bin\R.exe CMD build --keep-empty-dirs --no-resave-data omicade4 StartedAt: 2025-02-09 20:24:29 -0500 (Sun, 09 Feb 2025) EndedAt: 2025-02-09 20:25:16 -0500 (Sun, 09 Feb 2025) EllapsedTime: 47.2 seconds RetCode: 0 Status: OK PackageFile: omicade4_1.47.0.tar.gz PackageFileSize: 545.7 KiB