Package: omicsViewer Version: 1.11.1 Command: /Library/Frameworks/R.framework/Resources/bin/R CMD build --keep-empty-dirs --no-resave-data omicsViewer StartedAt: 2025-02-09 17:48:08 -0500 (Sun, 09 Feb 2025) EndedAt: 2025-02-09 17:49:06 -0500 (Sun, 09 Feb 2025) EllapsedTime: 58.1 seconds RetCode: 0 Status: OK PackageFile: omicsViewer_1.11.1.tar.gz PackageFileSize: 4.325 MiB