Package: omicsViewer Version: 1.11.1 Command: /Library/Frameworks/R.framework/Resources/bin/R CMD check --install=check:omicsViewer.install-out.txt --library=/Library/Frameworks/R.framework/Resources/library --no-vignettes --timings omicsViewer_1.11.1.tar.gz StartedAt: 2025-02-09 22:26:08 -0500 (Sun, 09 Feb 2025) EndedAt: 2025-02-09 22:33:31 -0500 (Sun, 09 Feb 2025) EllapsedTime: 443.2 seconds RetCode: 0 Status: OK CheckDir: omicsViewer.Rcheck Warnings: 0