Package: omicsViewer Version: 1.11.1 Command: /Library/Frameworks/R.framework/Resources/bin/R CMD INSTALL omicsViewer StartedAt: 2025-02-09 15:44:42 -0500 (Sun, 09 Feb 2025) EndedAt: 2025-02-09 15:45:28 -0500 (Sun, 09 Feb 2025) EllapsedTime: 45.1 seconds RetCode: 0 Status: OK