Package: omicsViewer Version: 1.11.1 Command: /home/biocbuild/bbs-3.21-bioc/R/bin/R CMD build --keep-empty-dirs --no-resave-data omicsViewer StartedAt: 2025-02-09 18:28:44 -0500 (Sun, 09 Feb 2025) EndedAt: 2025-02-09 18:29:38 -0500 (Sun, 09 Feb 2025) EllapsedTime: 54.0 seconds RetCode: 0 Status: OK PackageFile: omicsViewer_1.11.1.tar.gz PackageFileSize: 4.325 MiB