Package: omicsViewer Version: 1.11.1 Command: E:\biocbuild\bbs-3.21-bioc\R\bin\R.exe CMD INSTALL omicsViewer StartedAt: 2025-02-09 16:50:43 -0500 (Sun, 09 Feb 2025) EndedAt: 2025-02-09 16:51:39 -0500 (Sun, 09 Feb 2025) EllapsedTime: 56.8 seconds RetCode: 0 Status: OK