Package: oncomix Version: 1.29.0 Maintainer: Daniel Pique MaintainerEmail: daniel.pique at med.einstein.yu.edu git_url: https://git.bioconductor.org/packages/oncomix git_branch: devel git_last_commit: 34c2f12 git_last_commit_date: 2024-10-29 10:23:42 -0500 (Tue, 29 Oct 2024)